BEGIN:VCALENDAR
VERSION:2.0
PRODID:-//Faith Covenant Church - ECPv6.15.20//NONSGML v1.0//EN
CALSCALE:GREGORIAN
METHOD:PUBLISH
X-WR-CALNAME:Faith Covenant Church
X-ORIGINAL-URL:https://faithcovenant.org
X-WR-CALDESC:Events for Faith Covenant Church
REFRESH-INTERVAL;VALUE=DURATION:PT1H
X-Robots-Tag:noindex
X-PUBLISHED-TTL:PT1H
BEGIN:VTIMEZONE
TZID:America/Chicago
BEGIN:DAYLIGHT
TZOFFSETFROM:-0600
TZOFFSETTO:-0500
TZNAME:CDT
DTSTART:20230312T080000
END:DAYLIGHT
BEGIN:STANDARD
TZOFFSETFROM:-0500
TZOFFSETTO:-0600
TZNAME:CST
DTSTART:20231105T070000
END:STANDARD
BEGIN:DAYLIGHT
TZOFFSETFROM:-0600
TZOFFSETTO:-0500
TZNAME:CDT
DTSTART:20240310T080000
END:DAYLIGHT
BEGIN:STANDARD
TZOFFSETFROM:-0500
TZOFFSETTO:-0600
TZNAME:CST
DTSTART:20241103T070000
END:STANDARD
BEGIN:DAYLIGHT
TZOFFSETFROM:-0600
TZOFFSETTO:-0500
TZNAME:CDT
DTSTART:20250309T080000
END:DAYLIGHT
BEGIN:STANDARD
TZOFFSETFROM:-0500
TZOFFSETTO:-0600
TZNAME:CST
DTSTART:20251102T070000
END:STANDARD
END:VTIMEZONE
BEGIN:VEVENT
DTSTART;TZID=America/Chicago:20240909T190000
DTEND;TZID=America/Chicago:20240909T203000
DTSTAMP:20260425T075308
CREATED:20240819T192608Z
LAST-MODIFIED:20240819T192608Z
UID:28899-1725908400-1725913800@faithcovenant.org
SUMMARY:Community Bible Study (CBS)
DESCRIPTION:Community  \n  \n  \n\n\nWe love seeing what happens in people’s lives when they discover God through the study of His Word. Together we explore the Bible and what it tells us about the God who has woven His story through history and is present with us now. \nIn person at Faith Covenant Church and via zoom \nStudying the book of Matthew. Mondays 7-8:30 PM \nSept 9- Dec 9\, resume Jan 6-April 28. \nClick here to register! \n\n\n \n  \n  \n  \n  \n  \n  \n  \n  \n  \n 
URL:https://faithcovenant.org/event/community-bible-study-cbs-3/
LOCATION:Faith Covenant Church\, 12921 Nicollet Ave\, Burnsville 55337\, MN
ATTACH;FMTTYPE=image/png:https://faithcovenant.org/wp-content/uploads/2024/08/Community-Bible-Study-CBS.png
END:VEVENT
END:VCALENDAR