BEGIN:VCALENDAR
VERSION:2.0
PRODID:-//Faith Covenant Church - ECPv6.15.20//NONSGML v1.0//EN
CALSCALE:GREGORIAN
METHOD:PUBLISH
X-ORIGINAL-URL:https://faithcovenant.org
X-WR-CALDESC:Events for Faith Covenant Church
REFRESH-INTERVAL;VALUE=DURATION:PT1H
X-Robots-Tag:noindex
X-PUBLISHED-TTL:PT1H
BEGIN:VTIMEZONE
TZID:America/Chicago
BEGIN:DAYLIGHT
TZOFFSETFROM:-0600
TZOFFSETTO:-0500
TZNAME:CDT
DTSTART:20240310T080000
END:DAYLIGHT
BEGIN:STANDARD
TZOFFSETFROM:-0500
TZOFFSETTO:-0600
TZNAME:CST
DTSTART:20241103T070000
END:STANDARD
BEGIN:DAYLIGHT
TZOFFSETFROM:-0600
TZOFFSETTO:-0500
TZNAME:CDT
DTSTART:20250309T080000
END:DAYLIGHT
BEGIN:STANDARD
TZOFFSETFROM:-0500
TZOFFSETTO:-0600
TZNAME:CST
DTSTART:20251102T070000
END:STANDARD
BEGIN:DAYLIGHT
TZOFFSETFROM:-0600
TZOFFSETTO:-0500
TZNAME:CDT
DTSTART:20260308T080000
END:DAYLIGHT
BEGIN:STANDARD
TZOFFSETFROM:-0500
TZOFFSETTO:-0600
TZNAME:CST
DTSTART:20261101T070000
END:STANDARD
END:VTIMEZONE
BEGIN:VEVENT
DTSTART;TZID=America/Chicago:20250907T090000
DTEND;TZID=America/Chicago:20250907T100000
DTSTAMP:20260424T112419
CREATED:20250903T153435Z
LAST-MODIFIED:20250903T153435Z
UID:29513-1757235600-1757239200@faithcovenant.org
SUMMARY:Two or More: Prayer for the Rising Generation
DESCRIPTION:Do you have a child in your life that needs prayer?  Are you a child (of any age) that needs prayer?  The “Two or More” group claims the promise of Jesus’ presence when we gather together for prayer (Matthew 18:20)\, and believe prayer can move mountains.  We would love to pray for you.  Better yet\, come join us on Sunday morning at 9AM for fellowship and prayer.  \nNo child care\, but kids are welcome and play quietly in the Green Room with us. \nWhere:  The Green Room in the FaithKids wing at Faith Covenant Church\, 12921 Nicollet Ave\, Burnsville 55337 \nWhen: Every Sunday morning at 9AM \nQuestions and Prayer Requests: Contact Linda Stone (l.g.stone@comcast.net)
URL:https://faithcovenant.org/event/two-or-more-prayer-for-the-rising-generation/
LOCATION:Faith Covenant Church\, 12921 Nicollet Ave\, Burnsville 55337\, MN
ATTACH;FMTTYPE=image/jpeg:https://faithcovenant.org/wp-content/uploads/2025/09/1129-1024-1.jpeg
END:VEVENT
BEGIN:VEVENT
DTSTART;TZID=America/Chicago:20250907T103000
DTEND;TZID=America/Chicago:20250907T113000
DTSTAMP:20260424T112419
CREATED:20250904T163241Z
LAST-MODIFIED:20250904T163241Z
UID:29549-1757241000-1757244600@faithcovenant.org
SUMMARY:Faith Kids Sundays
DESCRIPTION:At Faith Covenant\, we value having our kids in worship with their families\, and we also value giving kids time with their peers as they learn about Jesus!   \nIn light of that\, Faith Kids Sundays are pleased to offer: \n* Early Childhood rooms (Birth-2s\, PreK 3+) are staffed every week during the service \n* K-3rd graders (Pathfinders) and 4th-5th graders (Club 45) begin their worship experience in the service and are invited to Faith Kids programming during the service with our awesome volunteers. \n* Developmental/special needs: If your child has a specific need to fit their developmental needs\, please talk to Vicki Newendorp\, our Children’s Director\, about how we can best support your child. \nKids are ALWAYS welcome in our service.  For kids that need some helps during the service: fidgets\, noice cancelling headphones\, and kids in worship bags are available to borrow near the Faith Kids Wing. \nHoliday/Special Service Sundays: On these Sundays\, early childhood rooms are staffed and all other kids are in the service the whole time. \nCurious about what happens during our Faith Kids Sundays? \nFaith begins with wonder. Ink is God’s truth inked upon our hearts. Our Faith Kids Sundays are using Wonder Ink curriculum to spark curiosity and wonder as we take kids on a journey of faith formation. Each year\, kids will dive into the Bible with Old and New Testament stories that all connect to God’s Big Story.   \nRooted in Biblical truth\, the Faith Kids Sunday mornings are enriched with four core values:  \n\nGod Knows Me\nJesus Loves Me\nThe Holy Spirit Leads Me\nI Am a Child of God\n\nFaith Kids Sundays offer kids space to fully discover their place in God’s Big Story\, leaving no doubt about who God is and who they are in Him—helping them understand how their lives can tell of His wonder. \nWe read stories\, dive into God’s Word\, play games\, pray\, and do a variety of things to help the Gospel come alive to kids (science experiments\, crafts\, skits\, and all kinds of creative things). All of our age groups are using Wonder Ink.
URL:https://faithcovenant.org/event/faith-kids-sundays-2/
LOCATION:Faith Covenant Church\, 12921 Nicollet Ave\, Burnsville 55337\, MN
ATTACH;FMTTYPE=image/png:https://faithcovenant.org/wp-content/uploads/2025/09/Main-Slide-for-Pre-Post-Roll-Hallways-Desk-sign-web.png
END:VEVENT
BEGIN:VEVENT
DTSTART;TZID=America/Chicago:20250907T114500
DTEND;TZID=America/Chicago:20250907T130000
DTSTAMP:20260424T112419
CREATED:20250818T192203Z
LAST-MODIFIED:20250818T192203Z
UID:29475-1757245500-1757250000@faithcovenant.org
SUMMARY:Fall Kick Off
DESCRIPTION:Join us on Sunday\, September 7th for a picnic lunch and fellowship following our morning worship. This will be a great opportunity for our Faith Family to come together and reconnect as we kick off the new season. No registration is necessary. We appreciate any free-will offerings\, but they are not required.
URL:https://faithcovenant.org/event/fall-kick-off/
LOCATION:Faith Covenant Church\, 12921 Nicollet Ave\, Burnsville 55337\, MN
ATTACH;FMTTYPE=image/png:https://faithcovenant.org/wp-content/uploads/2025/08/Fall-Kick-Off-Slide.png
END:VEVENT
END:VCALENDAR