BEGIN:VCALENDAR
VERSION:2.0
PRODID:-//Faith Covenant Church - ECPv6.15.20//NONSGML v1.0//EN
CALSCALE:GREGORIAN
METHOD:PUBLISH
X-ORIGINAL-URL:https://faithcovenant.org
X-WR-CALDESC:Events for Faith Covenant Church
REFRESH-INTERVAL;VALUE=DURATION:PT1H
X-Robots-Tag:noindex
X-PUBLISHED-TTL:PT1H
BEGIN:VTIMEZONE
TZID:America/Chicago
BEGIN:DAYLIGHT
TZOFFSETFROM:-0600
TZOFFSETTO:-0500
TZNAME:CDT
DTSTART:20240310T080000
END:DAYLIGHT
BEGIN:STANDARD
TZOFFSETFROM:-0500
TZOFFSETTO:-0600
TZNAME:CST
DTSTART:20241103T070000
END:STANDARD
BEGIN:DAYLIGHT
TZOFFSETFROM:-0600
TZOFFSETTO:-0500
TZNAME:CDT
DTSTART:20250309T080000
END:DAYLIGHT
BEGIN:STANDARD
TZOFFSETFROM:-0500
TZOFFSETTO:-0600
TZNAME:CST
DTSTART:20251102T070000
END:STANDARD
BEGIN:DAYLIGHT
TZOFFSETFROM:-0600
TZOFFSETTO:-0500
TZNAME:CDT
DTSTART:20260308T080000
END:DAYLIGHT
BEGIN:STANDARD
TZOFFSETFROM:-0500
TZOFFSETTO:-0600
TZNAME:CST
DTSTART:20261101T070000
END:STANDARD
END:VTIMEZONE
BEGIN:VEVENT
DTSTART;TZID=America/Chicago:20250906T080000
DTEND;TZID=America/Chicago:20250906T100000
DTSTAMP:20260423T052024
CREATED:20250903T181437Z
LAST-MODIFIED:20250903T183437Z
UID:29527-1757145600-1757152800@faithcovenant.org
SUMMARY:Men of Faith
DESCRIPTION:Bible study\, discipleship\, and fellowship group for all men who are seeking more even if they are not sure what more looks like. Saturdays at  8 AM: \nQuestions? Contact Butch Woelfel\,  bwoelfel66@gmail.com
URL:https://faithcovenant.org/event/men-of-faith-2/
LOCATION:Faith Covenant Church\, 12921 Nicollet Ave\, Burnsville 55337\, MN
CATEGORIES:FaithConnect Events
ATTACH;FMTTYPE=image/png:https://faithcovenant.org/wp-content/uploads/2025/09/Mens-Ministry-slide-1920-×-1080-px.png
END:VEVENT
BEGIN:VEVENT
DTSTART;TZID=America/Chicago:20250906T080000
DTEND;TZID=America/Chicago:20250906T100000
DTSTAMP:20260423T052024
CREATED:20250903T181437Z
LAST-MODIFIED:20250903T183437Z
UID:29527-1757145600-1757152800@faithcovenant.org
SUMMARY:Men of Faith
DESCRIPTION:Bible study\, discipleship\, and fellowship group for all men who are seeking more even if they are not sure what more looks like. Saturdays at  8 AM: \nQuestions? Contact Butch Woelfel\,  bwoelfel66@gmail.com
URL:https://faithcovenant.org/event/men-of-faith-2/
LOCATION:Faith Covenant Church\, 12921 Nicollet Ave\, Burnsville 55337\, MN
CATEGORIES:FaithConnect Events
ATTACH;FMTTYPE=image/png:https://faithcovenant.org/wp-content/uploads/2025/09/Mens-Ministry-slide-1920-×-1080-px.png
END:VEVENT
BEGIN:VEVENT
DTSTART;TZID=America/Chicago:20250906T080000
DTEND;TZID=America/Chicago:20250906T100000
DTSTAMP:20260423T052024
CREATED:20250903T181437Z
LAST-MODIFIED:20250903T183437Z
UID:29527-1757145600-1757152800@faithcovenant.org
SUMMARY:Men of Faith
DESCRIPTION:Bible study\, discipleship\, and fellowship group for all men who are seeking more even if they are not sure what more looks like. Saturdays at  8 AM: \nQuestions? Contact Butch Woelfel\,  bwoelfel66@gmail.com
URL:https://faithcovenant.org/event/men-of-faith-2/
LOCATION:Faith Covenant Church\, 12921 Nicollet Ave\, Burnsville 55337\, MN
CATEGORIES:FaithConnect Events
ATTACH;FMTTYPE=image/png:https://faithcovenant.org/wp-content/uploads/2025/09/Mens-Ministry-slide-1920-×-1080-px.png
END:VEVENT
BEGIN:VEVENT
DTSTART;TZID=America/Chicago:20250906T080000
DTEND;TZID=America/Chicago:20250906T100000
DTSTAMP:20260423T052024
CREATED:20250903T181437Z
LAST-MODIFIED:20250903T183437Z
UID:29527-1757145600-1757152800@faithcovenant.org
SUMMARY:Men of Faith
DESCRIPTION:Bible study\, discipleship\, and fellowship group for all men who are seeking more even if they are not sure what more looks like. Saturdays at  8 AM: \nQuestions? Contact Butch Woelfel\,  bwoelfel66@gmail.com
URL:https://faithcovenant.org/event/men-of-faith-2/
LOCATION:Faith Covenant Church\, 12921 Nicollet Ave\, Burnsville 55337\, MN
CATEGORIES:FaithConnect Events
ATTACH;FMTTYPE=image/png:https://faithcovenant.org/wp-content/uploads/2025/09/Mens-Ministry-slide-1920-×-1080-px.png
END:VEVENT
BEGIN:VEVENT
DTSTART;TZID=America/Chicago:20250903T110000
DTEND;TZID=America/Chicago:20250903T130000
DTSTAMP:20260423T052024
CREATED:20250903T182231Z
LAST-MODIFIED:20250903T182241Z
UID:29529-1756897200-1756904400@faithcovenant.org
SUMMARY:Hannah Circle
DESCRIPTION:A women’s group that meets once a month to discuss a Christian book that is voted on and member led. Meets the first Wednesday of each month at 11 AM. \nQuestions? Contact Darlene Jackson\, darlenejackson48@msn.com
URL:https://faithcovenant.org/event/hannah-circle/
LOCATION:Faith Covenant Church\, 12921 Nicollet Ave\, Burnsville 55337\, MN
CATEGORIES:FaithConnect Events
ATTACH;FMTTYPE=image/jpeg:https://faithcovenant.org/wp-content/uploads/2025/09/25-1024.jpeg
END:VEVENT
BEGIN:VEVENT
DTSTART;TZID=America/Chicago:20250906T080000
DTEND;TZID=America/Chicago:20250906T100000
DTSTAMP:20260423T052024
CREATED:20250903T181437Z
LAST-MODIFIED:20250903T183437Z
UID:29527-1757145600-1757152800@faithcovenant.org
SUMMARY:Men of Faith
DESCRIPTION:Bible study\, discipleship\, and fellowship group for all men who are seeking more even if they are not sure what more looks like. Saturdays at  8 AM: \nQuestions? Contact Butch Woelfel\,  bwoelfel66@gmail.com
URL:https://faithcovenant.org/event/men-of-faith-2/
LOCATION:Faith Covenant Church\, 12921 Nicollet Ave\, Burnsville 55337\, MN
CATEGORIES:FaithConnect Events
ATTACH;FMTTYPE=image/png:https://faithcovenant.org/wp-content/uploads/2025/09/Mens-Ministry-slide-1920-×-1080-px.png
END:VEVENT
BEGIN:VEVENT
DTSTART;TZID=America/Chicago:20250906T080000
DTEND;TZID=America/Chicago:20250906T100000
DTSTAMP:20260423T052024
CREATED:20250903T181437Z
LAST-MODIFIED:20250903T183437Z
UID:29527-1757145600-1757152800@faithcovenant.org
SUMMARY:Men of Faith
DESCRIPTION:Bible study\, discipleship\, and fellowship group for all men who are seeking more even if they are not sure what more looks like. Saturdays at  8 AM: \nQuestions? Contact Butch Woelfel\,  bwoelfel66@gmail.com
URL:https://faithcovenant.org/event/men-of-faith-2/
LOCATION:Faith Covenant Church\, 12921 Nicollet Ave\, Burnsville 55337\, MN
CATEGORIES:FaithConnect Events
ATTACH;FMTTYPE=image/png:https://faithcovenant.org/wp-content/uploads/2025/09/Mens-Ministry-slide-1920-×-1080-px.png
END:VEVENT
BEGIN:VEVENT
DTSTART;TZID=America/Chicago:20250906T080000
DTEND;TZID=America/Chicago:20250906T100000
DTSTAMP:20260423T052024
CREATED:20250903T181437Z
LAST-MODIFIED:20250903T183437Z
UID:29527-1757145600-1757152800@faithcovenant.org
SUMMARY:Men of Faith
DESCRIPTION:Bible study\, discipleship\, and fellowship group for all men who are seeking more even if they are not sure what more looks like. Saturdays at  8 AM: \nQuestions? Contact Butch Woelfel\,  bwoelfel66@gmail.com
URL:https://faithcovenant.org/event/men-of-faith-2/
LOCATION:Faith Covenant Church\, 12921 Nicollet Ave\, Burnsville 55337\, MN
CATEGORIES:FaithConnect Events
ATTACH;FMTTYPE=image/png:https://faithcovenant.org/wp-content/uploads/2025/09/Mens-Ministry-slide-1920-×-1080-px.png
END:VEVENT
BEGIN:VEVENT
DTSTART;TZID=America/Chicago:20250906T080000
DTEND;TZID=America/Chicago:20250906T100000
DTSTAMP:20260423T052024
CREATED:20250903T181437Z
LAST-MODIFIED:20250903T183437Z
UID:29527-1757145600-1757152800@faithcovenant.org
SUMMARY:Men of Faith
DESCRIPTION:Bible study\, discipleship\, and fellowship group for all men who are seeking more even if they are not sure what more looks like. Saturdays at  8 AM: \nQuestions? Contact Butch Woelfel\,  bwoelfel66@gmail.com
URL:https://faithcovenant.org/event/men-of-faith-2/
LOCATION:Faith Covenant Church\, 12921 Nicollet Ave\, Burnsville 55337\, MN
CATEGORIES:FaithConnect Events
ATTACH;FMTTYPE=image/png:https://faithcovenant.org/wp-content/uploads/2025/09/Mens-Ministry-slide-1920-×-1080-px.png
END:VEVENT
BEGIN:VEVENT
DTSTART;TZID=America/Chicago:20250906T080000
DTEND;TZID=America/Chicago:20250906T100000
DTSTAMP:20260423T052024
CREATED:20250903T181437Z
LAST-MODIFIED:20250903T183437Z
UID:29527-1757145600-1757152800@faithcovenant.org
SUMMARY:Men of Faith
DESCRIPTION:Bible study\, discipleship\, and fellowship group for all men who are seeking more even if they are not sure what more looks like. Saturdays at  8 AM: \nQuestions? Contact Butch Woelfel\,  bwoelfel66@gmail.com
URL:https://faithcovenant.org/event/men-of-faith-2/
LOCATION:Faith Covenant Church\, 12921 Nicollet Ave\, Burnsville 55337\, MN
CATEGORIES:FaithConnect Events
ATTACH;FMTTYPE=image/png:https://faithcovenant.org/wp-content/uploads/2025/09/Mens-Ministry-slide-1920-×-1080-px.png
END:VEVENT
BEGIN:VEVENT
DTSTART;TZID=America/Chicago:20250903T110000
DTEND;TZID=America/Chicago:20250903T130000
DTSTAMP:20260423T052024
CREATED:20250903T182231Z
LAST-MODIFIED:20250903T182241Z
UID:29529-1756897200-1756904400@faithcovenant.org
SUMMARY:Hannah Circle
DESCRIPTION:A women’s group that meets once a month to discuss a Christian book that is voted on and member led. Meets the first Wednesday of each month at 11 AM. \nQuestions? Contact Darlene Jackson\, darlenejackson48@msn.com
URL:https://faithcovenant.org/event/hannah-circle/
LOCATION:Faith Covenant Church\, 12921 Nicollet Ave\, Burnsville 55337\, MN
CATEGORIES:FaithConnect Events
ATTACH;FMTTYPE=image/jpeg:https://faithcovenant.org/wp-content/uploads/2025/09/25-1024.jpeg
END:VEVENT
BEGIN:VEVENT
DTSTART;TZID=America/Chicago:20250906T080000
DTEND;TZID=America/Chicago:20250906T100000
DTSTAMP:20260423T052024
CREATED:20250903T181437Z
LAST-MODIFIED:20250903T183437Z
UID:29527-1757145600-1757152800@faithcovenant.org
SUMMARY:Men of Faith
DESCRIPTION:Bible study\, discipleship\, and fellowship group for all men who are seeking more even if they are not sure what more looks like. Saturdays at  8 AM: \nQuestions? Contact Butch Woelfel\,  bwoelfel66@gmail.com
URL:https://faithcovenant.org/event/men-of-faith-2/
LOCATION:Faith Covenant Church\, 12921 Nicollet Ave\, Burnsville 55337\, MN
CATEGORIES:FaithConnect Events
ATTACH;FMTTYPE=image/png:https://faithcovenant.org/wp-content/uploads/2025/09/Mens-Ministry-slide-1920-×-1080-px.png
END:VEVENT
BEGIN:VEVENT
DTSTART;TZID=America/Chicago:20250906T080000
DTEND;TZID=America/Chicago:20250906T100000
DTSTAMP:20260423T052024
CREATED:20250903T181437Z
LAST-MODIFIED:20250903T183437Z
UID:29527-1757145600-1757152800@faithcovenant.org
SUMMARY:Men of Faith
DESCRIPTION:Bible study\, discipleship\, and fellowship group for all men who are seeking more even if they are not sure what more looks like. Saturdays at  8 AM: \nQuestions? Contact Butch Woelfel\,  bwoelfel66@gmail.com
URL:https://faithcovenant.org/event/men-of-faith-2/
LOCATION:Faith Covenant Church\, 12921 Nicollet Ave\, Burnsville 55337\, MN
CATEGORIES:FaithConnect Events
ATTACH;FMTTYPE=image/png:https://faithcovenant.org/wp-content/uploads/2025/09/Mens-Ministry-slide-1920-×-1080-px.png
END:VEVENT
BEGIN:VEVENT
DTSTART;TZID=America/Chicago:20250906T080000
DTEND;TZID=America/Chicago:20250906T100000
DTSTAMP:20260423T052024
CREATED:20250903T181437Z
LAST-MODIFIED:20250903T183437Z
UID:29527-1757145600-1757152800@faithcovenant.org
SUMMARY:Men of Faith
DESCRIPTION:Bible study\, discipleship\, and fellowship group for all men who are seeking more even if they are not sure what more looks like. Saturdays at  8 AM: \nQuestions? Contact Butch Woelfel\,  bwoelfel66@gmail.com
URL:https://faithcovenant.org/event/men-of-faith-2/
LOCATION:Faith Covenant Church\, 12921 Nicollet Ave\, Burnsville 55337\, MN
CATEGORIES:FaithConnect Events
ATTACH;FMTTYPE=image/png:https://faithcovenant.org/wp-content/uploads/2025/09/Mens-Ministry-slide-1920-×-1080-px.png
END:VEVENT
BEGIN:VEVENT
DTSTART;TZID=America/Chicago:20250906T080000
DTEND;TZID=America/Chicago:20250906T100000
DTSTAMP:20260423T052024
CREATED:20250903T181437Z
LAST-MODIFIED:20250903T183437Z
UID:29527-1757145600-1757152800@faithcovenant.org
SUMMARY:Men of Faith
DESCRIPTION:Bible study\, discipleship\, and fellowship group for all men who are seeking more even if they are not sure what more looks like. Saturdays at  8 AM: \nQuestions? Contact Butch Woelfel\,  bwoelfel66@gmail.com
URL:https://faithcovenant.org/event/men-of-faith-2/
LOCATION:Faith Covenant Church\, 12921 Nicollet Ave\, Burnsville 55337\, MN
CATEGORIES:FaithConnect Events
ATTACH;FMTTYPE=image/png:https://faithcovenant.org/wp-content/uploads/2025/09/Mens-Ministry-slide-1920-×-1080-px.png
END:VEVENT
BEGIN:VEVENT
DTSTART;TZID=America/Chicago:20250903T110000
DTEND;TZID=America/Chicago:20250903T130000
DTSTAMP:20260423T052024
CREATED:20250903T182231Z
LAST-MODIFIED:20250903T182241Z
UID:29529-1756897200-1756904400@faithcovenant.org
SUMMARY:Hannah Circle
DESCRIPTION:A women’s group that meets once a month to discuss a Christian book that is voted on and member led. Meets the first Wednesday of each month at 11 AM. \nQuestions? Contact Darlene Jackson\, darlenejackson48@msn.com
URL:https://faithcovenant.org/event/hannah-circle/
LOCATION:Faith Covenant Church\, 12921 Nicollet Ave\, Burnsville 55337\, MN
CATEGORIES:FaithConnect Events
ATTACH;FMTTYPE=image/jpeg:https://faithcovenant.org/wp-content/uploads/2025/09/25-1024.jpeg
END:VEVENT
BEGIN:VEVENT
DTSTART;TZID=America/Chicago:20250906T080000
DTEND;TZID=America/Chicago:20250906T100000
DTSTAMP:20260423T052024
CREATED:20250903T181437Z
LAST-MODIFIED:20250903T183437Z
UID:29527-1757145600-1757152800@faithcovenant.org
SUMMARY:Men of Faith
DESCRIPTION:Bible study\, discipleship\, and fellowship group for all men who are seeking more even if they are not sure what more looks like. Saturdays at  8 AM: \nQuestions? Contact Butch Woelfel\,  bwoelfel66@gmail.com
URL:https://faithcovenant.org/event/men-of-faith-2/
LOCATION:Faith Covenant Church\, 12921 Nicollet Ave\, Burnsville 55337\, MN
CATEGORIES:FaithConnect Events
ATTACH;FMTTYPE=image/png:https://faithcovenant.org/wp-content/uploads/2025/09/Mens-Ministry-slide-1920-×-1080-px.png
END:VEVENT
BEGIN:VEVENT
DTSTART;TZID=America/Chicago:20250906T080000
DTEND;TZID=America/Chicago:20250906T100000
DTSTAMP:20260423T052024
CREATED:20250903T181437Z
LAST-MODIFIED:20250903T183437Z
UID:29527-1757145600-1757152800@faithcovenant.org
SUMMARY:Men of Faith
DESCRIPTION:Bible study\, discipleship\, and fellowship group for all men who are seeking more even if they are not sure what more looks like. Saturdays at  8 AM: \nQuestions? Contact Butch Woelfel\,  bwoelfel66@gmail.com
URL:https://faithcovenant.org/event/men-of-faith-2/
LOCATION:Faith Covenant Church\, 12921 Nicollet Ave\, Burnsville 55337\, MN
CATEGORIES:FaithConnect Events
ATTACH;FMTTYPE=image/png:https://faithcovenant.org/wp-content/uploads/2025/09/Mens-Ministry-slide-1920-×-1080-px.png
END:VEVENT
BEGIN:VEVENT
DTSTART;TZID=America/Chicago:20250906T080000
DTEND;TZID=America/Chicago:20250906T100000
DTSTAMP:20260423T052024
CREATED:20250903T181437Z
LAST-MODIFIED:20250903T183437Z
UID:29527-1757145600-1757152800@faithcovenant.org
SUMMARY:Men of Faith
DESCRIPTION:Bible study\, discipleship\, and fellowship group for all men who are seeking more even if they are not sure what more looks like. Saturdays at  8 AM: \nQuestions? Contact Butch Woelfel\,  bwoelfel66@gmail.com
URL:https://faithcovenant.org/event/men-of-faith-2/
LOCATION:Faith Covenant Church\, 12921 Nicollet Ave\, Burnsville 55337\, MN
CATEGORIES:FaithConnect Events
ATTACH;FMTTYPE=image/png:https://faithcovenant.org/wp-content/uploads/2025/09/Mens-Ministry-slide-1920-×-1080-px.png
END:VEVENT
BEGIN:VEVENT
DTSTART;TZID=America/Chicago:20250906T080000
DTEND;TZID=America/Chicago:20250906T100000
DTSTAMP:20260423T052024
CREATED:20250903T181437Z
LAST-MODIFIED:20250903T183437Z
UID:29527-1757145600-1757152800@faithcovenant.org
SUMMARY:Men of Faith
DESCRIPTION:Bible study\, discipleship\, and fellowship group for all men who are seeking more even if they are not sure what more looks like. Saturdays at  8 AM: \nQuestions? Contact Butch Woelfel\,  bwoelfel66@gmail.com
URL:https://faithcovenant.org/event/men-of-faith-2/
LOCATION:Faith Covenant Church\, 12921 Nicollet Ave\, Burnsville 55337\, MN
CATEGORIES:FaithConnect Events
ATTACH;FMTTYPE=image/png:https://faithcovenant.org/wp-content/uploads/2025/09/Mens-Ministry-slide-1920-×-1080-px.png
END:VEVENT
BEGIN:VEVENT
DTSTART;TZID=America/Chicago:20250903T110000
DTEND;TZID=America/Chicago:20250903T130000
DTSTAMP:20260423T052024
CREATED:20250903T182231Z
LAST-MODIFIED:20250903T182241Z
UID:29529-1756897200-1756904400@faithcovenant.org
SUMMARY:Hannah Circle
DESCRIPTION:A women’s group that meets once a month to discuss a Christian book that is voted on and member led. Meets the first Wednesday of each month at 11 AM. \nQuestions? Contact Darlene Jackson\, darlenejackson48@msn.com
URL:https://faithcovenant.org/event/hannah-circle/
LOCATION:Faith Covenant Church\, 12921 Nicollet Ave\, Burnsville 55337\, MN
CATEGORIES:FaithConnect Events
ATTACH;FMTTYPE=image/jpeg:https://faithcovenant.org/wp-content/uploads/2025/09/25-1024.jpeg
END:VEVENT
BEGIN:VEVENT
DTSTART;TZID=America/Chicago:20250906T080000
DTEND;TZID=America/Chicago:20250906T100000
DTSTAMP:20260423T052024
CREATED:20250903T181437Z
LAST-MODIFIED:20250903T183437Z
UID:29527-1757145600-1757152800@faithcovenant.org
SUMMARY:Men of Faith
DESCRIPTION:Bible study\, discipleship\, and fellowship group for all men who are seeking more even if they are not sure what more looks like. Saturdays at  8 AM: \nQuestions? Contact Butch Woelfel\,  bwoelfel66@gmail.com
URL:https://faithcovenant.org/event/men-of-faith-2/
LOCATION:Faith Covenant Church\, 12921 Nicollet Ave\, Burnsville 55337\, MN
CATEGORIES:FaithConnect Events
ATTACH;FMTTYPE=image/png:https://faithcovenant.org/wp-content/uploads/2025/09/Mens-Ministry-slide-1920-×-1080-px.png
END:VEVENT
BEGIN:VEVENT
DTSTART;TZID=America/Chicago:20250906T080000
DTEND;TZID=America/Chicago:20250906T100000
DTSTAMP:20260423T052024
CREATED:20250903T181437Z
LAST-MODIFIED:20250903T183437Z
UID:29527-1757145600-1757152800@faithcovenant.org
SUMMARY:Men of Faith
DESCRIPTION:Bible study\, discipleship\, and fellowship group for all men who are seeking more even if they are not sure what more looks like. Saturdays at  8 AM: \nQuestions? Contact Butch Woelfel\,  bwoelfel66@gmail.com
URL:https://faithcovenant.org/event/men-of-faith-2/
LOCATION:Faith Covenant Church\, 12921 Nicollet Ave\, Burnsville 55337\, MN
CATEGORIES:FaithConnect Events
ATTACH;FMTTYPE=image/png:https://faithcovenant.org/wp-content/uploads/2025/09/Mens-Ministry-slide-1920-×-1080-px.png
END:VEVENT
BEGIN:VEVENT
DTSTART;TZID=America/Chicago:20250906T080000
DTEND;TZID=America/Chicago:20250906T100000
DTSTAMP:20260423T052024
CREATED:20250903T181437Z
LAST-MODIFIED:20250903T183437Z
UID:29527-1757145600-1757152800@faithcovenant.org
SUMMARY:Men of Faith
DESCRIPTION:Bible study\, discipleship\, and fellowship group for all men who are seeking more even if they are not sure what more looks like. Saturdays at  8 AM: \nQuestions? Contact Butch Woelfel\,  bwoelfel66@gmail.com
URL:https://faithcovenant.org/event/men-of-faith-2/
LOCATION:Faith Covenant Church\, 12921 Nicollet Ave\, Burnsville 55337\, MN
CATEGORIES:FaithConnect Events
ATTACH;FMTTYPE=image/png:https://faithcovenant.org/wp-content/uploads/2025/09/Mens-Ministry-slide-1920-×-1080-px.png
END:VEVENT
BEGIN:VEVENT
DTSTART;TZID=America/Chicago:20250906T080000
DTEND;TZID=America/Chicago:20250906T100000
DTSTAMP:20260423T052024
CREATED:20250903T181437Z
LAST-MODIFIED:20250903T183437Z
UID:29527-1757145600-1757152800@faithcovenant.org
SUMMARY:Men of Faith
DESCRIPTION:Bible study\, discipleship\, and fellowship group for all men who are seeking more even if they are not sure what more looks like. Saturdays at  8 AM: \nQuestions? Contact Butch Woelfel\,  bwoelfel66@gmail.com
URL:https://faithcovenant.org/event/men-of-faith-2/
LOCATION:Faith Covenant Church\, 12921 Nicollet Ave\, Burnsville 55337\, MN
CATEGORIES:FaithConnect Events
ATTACH;FMTTYPE=image/png:https://faithcovenant.org/wp-content/uploads/2025/09/Mens-Ministry-slide-1920-×-1080-px.png
END:VEVENT
BEGIN:VEVENT
DTSTART;TZID=America/Chicago:20250906T080000
DTEND;TZID=America/Chicago:20250906T100000
DTSTAMP:20260423T052024
CREATED:20250903T181437Z
LAST-MODIFIED:20250903T183437Z
UID:29527-1757145600-1757152800@faithcovenant.org
SUMMARY:Men of Faith
DESCRIPTION:Bible study\, discipleship\, and fellowship group for all men who are seeking more even if they are not sure what more looks like. Saturdays at  8 AM: \nQuestions? Contact Butch Woelfel\,  bwoelfel66@gmail.com
URL:https://faithcovenant.org/event/men-of-faith-2/
LOCATION:Faith Covenant Church\, 12921 Nicollet Ave\, Burnsville 55337\, MN
CATEGORIES:FaithConnect Events
ATTACH;FMTTYPE=image/png:https://faithcovenant.org/wp-content/uploads/2025/09/Mens-Ministry-slide-1920-×-1080-px.png
END:VEVENT
BEGIN:VEVENT
DTSTART;TZID=America/Chicago:20250903T110000
DTEND;TZID=America/Chicago:20250903T130000
DTSTAMP:20260423T052024
CREATED:20250903T182231Z
LAST-MODIFIED:20250903T182241Z
UID:29529-1756897200-1756904400@faithcovenant.org
SUMMARY:Hannah Circle
DESCRIPTION:A women’s group that meets once a month to discuss a Christian book that is voted on and member led. Meets the first Wednesday of each month at 11 AM. \nQuestions? Contact Darlene Jackson\, darlenejackson48@msn.com
URL:https://faithcovenant.org/event/hannah-circle/
LOCATION:Faith Covenant Church\, 12921 Nicollet Ave\, Burnsville 55337\, MN
CATEGORIES:FaithConnect Events
ATTACH;FMTTYPE=image/jpeg:https://faithcovenant.org/wp-content/uploads/2025/09/25-1024.jpeg
END:VEVENT
BEGIN:VEVENT
DTSTART;TZID=America/Chicago:20250906T080000
DTEND;TZID=America/Chicago:20250906T100000
DTSTAMP:20260423T052024
CREATED:20250903T181437Z
LAST-MODIFIED:20250903T183437Z
UID:29527-1757145600-1757152800@faithcovenant.org
SUMMARY:Men of Faith
DESCRIPTION:Bible study\, discipleship\, and fellowship group for all men who are seeking more even if they are not sure what more looks like. Saturdays at  8 AM: \nQuestions? Contact Butch Woelfel\,  bwoelfel66@gmail.com
URL:https://faithcovenant.org/event/men-of-faith-2/
LOCATION:Faith Covenant Church\, 12921 Nicollet Ave\, Burnsville 55337\, MN
CATEGORIES:FaithConnect Events
ATTACH;FMTTYPE=image/png:https://faithcovenant.org/wp-content/uploads/2025/09/Mens-Ministry-slide-1920-×-1080-px.png
END:VEVENT
BEGIN:VEVENT
DTSTART;TZID=America/Chicago:20250906T080000
DTEND;TZID=America/Chicago:20250906T100000
DTSTAMP:20260423T052024
CREATED:20250903T181437Z
LAST-MODIFIED:20250903T183437Z
UID:29527-1757145600-1757152800@faithcovenant.org
SUMMARY:Men of Faith
DESCRIPTION:Bible study\, discipleship\, and fellowship group for all men who are seeking more even if they are not sure what more looks like. Saturdays at  8 AM: \nQuestions? Contact Butch Woelfel\,  bwoelfel66@gmail.com
URL:https://faithcovenant.org/event/men-of-faith-2/
LOCATION:Faith Covenant Church\, 12921 Nicollet Ave\, Burnsville 55337\, MN
CATEGORIES:FaithConnect Events
ATTACH;FMTTYPE=image/png:https://faithcovenant.org/wp-content/uploads/2025/09/Mens-Ministry-slide-1920-×-1080-px.png
END:VEVENT
BEGIN:VEVENT
DTSTART;TZID=America/Chicago:20250906T080000
DTEND;TZID=America/Chicago:20250906T100000
DTSTAMP:20260423T052024
CREATED:20250903T181437Z
LAST-MODIFIED:20250903T183437Z
UID:29527-1757145600-1757152800@faithcovenant.org
SUMMARY:Men of Faith
DESCRIPTION:Bible study\, discipleship\, and fellowship group for all men who are seeking more even if they are not sure what more looks like. Saturdays at  8 AM: \nQuestions? Contact Butch Woelfel\,  bwoelfel66@gmail.com
URL:https://faithcovenant.org/event/men-of-faith-2/
LOCATION:Faith Covenant Church\, 12921 Nicollet Ave\, Burnsville 55337\, MN
CATEGORIES:FaithConnect Events
ATTACH;FMTTYPE=image/png:https://faithcovenant.org/wp-content/uploads/2025/09/Mens-Ministry-slide-1920-×-1080-px.png
END:VEVENT
END:VCALENDAR