BEGIN:VCALENDAR
VERSION:2.0
PRODID:-//Faith Covenant Church - ECPv6.15.20//NONSGML v1.0//EN
CALSCALE:GREGORIAN
METHOD:PUBLISH
X-ORIGINAL-URL:https://faithcovenant.org
X-WR-CALDESC:Events for Faith Covenant Church
REFRESH-INTERVAL;VALUE=DURATION:PT1H
X-Robots-Tag:noindex
X-PUBLISHED-TTL:PT1H
BEGIN:VTIMEZONE
TZID:America/Chicago
BEGIN:DAYLIGHT
TZOFFSETFROM:-0600
TZOFFSETTO:-0500
TZNAME:CDT
DTSTART:20240310T080000
END:DAYLIGHT
BEGIN:STANDARD
TZOFFSETFROM:-0500
TZOFFSETTO:-0600
TZNAME:CST
DTSTART:20241103T070000
END:STANDARD
BEGIN:DAYLIGHT
TZOFFSETFROM:-0600
TZOFFSETTO:-0500
TZNAME:CDT
DTSTART:20250309T080000
END:DAYLIGHT
BEGIN:STANDARD
TZOFFSETFROM:-0500
TZOFFSETTO:-0600
TZNAME:CST
DTSTART:20251102T070000
END:STANDARD
BEGIN:DAYLIGHT
TZOFFSETFROM:-0600
TZOFFSETTO:-0500
TZNAME:CDT
DTSTART:20260308T080000
END:DAYLIGHT
BEGIN:STANDARD
TZOFFSETFROM:-0500
TZOFFSETTO:-0600
TZNAME:CST
DTSTART:20261101T070000
END:STANDARD
END:VTIMEZONE
BEGIN:VEVENT
DTSTART;TZID=America/Chicago:20250906T080000
DTEND;TZID=America/Chicago:20250906T100000
DTSTAMP:20260425T061453
CREATED:20250903T181437Z
LAST-MODIFIED:20250903T183437Z
UID:29527-1757145600-1757152800@faithcovenant.org
SUMMARY:Men of Faith
DESCRIPTION:Bible study\, discipleship\, and fellowship group for all men who are seeking more even if they are not sure what more looks like. Saturdays at  8 AM: \nQuestions? Contact Butch Woelfel\,  bwoelfel66@gmail.com
URL:https://faithcovenant.org/event/men-of-faith-2/
LOCATION:Faith Covenant Church\, 12921 Nicollet Ave\, Burnsville 55337\, MN
CATEGORIES:FaithConnect Events
ATTACH;FMTTYPE=image/png:https://faithcovenant.org/wp-content/uploads/2025/09/Mens-Ministry-slide-1920-×-1080-px.png
END:VEVENT
BEGIN:VEVENT
DTSTART;TZID=America/Chicago:20250925T093000
DTEND;TZID=America/Chicago:20250925T110000
DTSTAMP:20260425T061453
CREATED:20250903T154920Z
LAST-MODIFIED:20250903T170058Z
UID:29519-1758792600-1758798000@faithcovenant.org
SUMMARY:Thurs AM Women's Book Study
DESCRIPTION:This fall\, we’re excited to journey through author Jen Wilkin’s study “Abide\,” which looks deeply at 1\, 2\, 3 John. The apostle John wrote these letters to encourage believers to hold fast to what they know and to live like they believe it. We’ll meet on Wednesdays\, 6:15-7:45pm or Thursdays\, 9:30-11am. Books are $25 but Faith is offering a 20% discount so the book with video access is $20 if you order through us. Click here to register (and purchase your book).
URL:https://faithcovenant.org/event/thurs-am-womens-book-study/
LOCATION:Faith Covenant Church\, 12921 Nicollet Ave\, Burnsville 55337\, MN
CATEGORIES:FaithConnect Events
ATTACH;FMTTYPE=image/png:https://faithcovenant.org/wp-content/uploads/2025/09/Womens-Bible-Study.png
END:VEVENT
BEGIN:VEVENT
DTSTART;TZID=America/Chicago:20250910T133000
DTEND;TZID=America/Chicago:20250910T153000
DTSTAMP:20260425T061453
CREATED:20250903T182428Z
LAST-MODIFIED:20250903T195825Z
UID:29532-1757511000-1757518200@faithcovenant.org
SUMMARY:Never Too Old To Learn
DESCRIPTION:A Bible study for senior women\, including fellowship and prayer. Rides are available. Meets weekly on Wednesdays from 1:30-3:30 PM. \nQuestions? Contact: Lu-Anne Scheerer\, lscheerer@comcast.net or 952-426-5214.
URL:https://faithcovenant.org/event/never-too-old-to-learn/
LOCATION:Faith Covenant Church\, 12921 Nicollet Ave\, Burnsville 55337\, MN
CATEGORIES:FaithConnect Events
ATTACH;FMTTYPE=image/jpeg:https://faithcovenant.org/wp-content/uploads/2025/09/26-1024.jpeg
END:VEVENT
BEGIN:VEVENT
DTSTART;TZID=America/Chicago:20250921T090000
DTEND;TZID=America/Chicago:20250921T100000
DTSTAMP:20260425T061453
CREATED:20250903T193328Z
LAST-MODIFIED:20250903T193328Z
UID:29535-1758445200-1758448800@faithcovenant.org
SUMMARY:Esther
DESCRIPTION:Esther is one of two books in the Bible that never explicitly mentions God\, so why is it in the Bible? We’ll dig into that question and more as we explore the story of this biblical heroine. This class will be at 9 AM on Sunday mornings this fall in the Legacy Chapel. \nQuestions? Contact Kavan Rogness at Krogness@faithcovenant.org
URL:https://faithcovenant.org/event/esther/
LOCATION:Faith Covenant Church\, 12921 Nicollet Ave\, Burnsville 55337\, MN
CATEGORIES:FaithConnect Events
ATTACH;FMTTYPE=image/jpeg:https://faithcovenant.org/wp-content/uploads/2025/09/1184-1024.jpeg
END:VEVENT
BEGIN:VEVENT
DTSTART;TZID=America/Chicago:20250906T080000
DTEND;TZID=America/Chicago:20250906T100000
DTSTAMP:20260425T061453
CREATED:20250903T181437Z
LAST-MODIFIED:20250903T183437Z
UID:29527-1757145600-1757152800@faithcovenant.org
SUMMARY:Men of Faith
DESCRIPTION:Bible study\, discipleship\, and fellowship group for all men who are seeking more even if they are not sure what more looks like. Saturdays at  8 AM: \nQuestions? Contact Butch Woelfel\,  bwoelfel66@gmail.com
URL:https://faithcovenant.org/event/men-of-faith-2/
LOCATION:Faith Covenant Church\, 12921 Nicollet Ave\, Burnsville 55337\, MN
CATEGORIES:FaithConnect Events
ATTACH;FMTTYPE=image/png:https://faithcovenant.org/wp-content/uploads/2025/09/Mens-Ministry-slide-1920-×-1080-px.png
END:VEVENT
BEGIN:VEVENT
DTSTART;TZID=America/Chicago:20250925T093000
DTEND;TZID=America/Chicago:20250925T110000
DTSTAMP:20260425T061453
CREATED:20250903T154920Z
LAST-MODIFIED:20250903T170058Z
UID:29519-1758792600-1758798000@faithcovenant.org
SUMMARY:Thurs AM Women's Book Study
DESCRIPTION:This fall\, we’re excited to journey through author Jen Wilkin’s study “Abide\,” which looks deeply at 1\, 2\, 3 John. The apostle John wrote these letters to encourage believers to hold fast to what they know and to live like they believe it. We’ll meet on Wednesdays\, 6:15-7:45pm or Thursdays\, 9:30-11am. Books are $25 but Faith is offering a 20% discount so the book with video access is $20 if you order through us. Click here to register (and purchase your book).
URL:https://faithcovenant.org/event/thurs-am-womens-book-study/
LOCATION:Faith Covenant Church\, 12921 Nicollet Ave\, Burnsville 55337\, MN
CATEGORIES:FaithConnect Events
ATTACH;FMTTYPE=image/png:https://faithcovenant.org/wp-content/uploads/2025/09/Womens-Bible-Study.png
END:VEVENT
BEGIN:VEVENT
DTSTART;TZID=America/Chicago:20250910T133000
DTEND;TZID=America/Chicago:20250910T153000
DTSTAMP:20260425T061453
CREATED:20250903T182428Z
LAST-MODIFIED:20250903T195825Z
UID:29532-1757511000-1757518200@faithcovenant.org
SUMMARY:Never Too Old To Learn
DESCRIPTION:A Bible study for senior women\, including fellowship and prayer. Rides are available. Meets weekly on Wednesdays from 1:30-3:30 PM. \nQuestions? Contact: Lu-Anne Scheerer\, lscheerer@comcast.net or 952-426-5214.
URL:https://faithcovenant.org/event/never-too-old-to-learn/
LOCATION:Faith Covenant Church\, 12921 Nicollet Ave\, Burnsville 55337\, MN
CATEGORIES:FaithConnect Events
ATTACH;FMTTYPE=image/jpeg:https://faithcovenant.org/wp-content/uploads/2025/09/26-1024.jpeg
END:VEVENT
BEGIN:VEVENT
DTSTART;TZID=America/Chicago:20250921T114500
DTEND;TZID=America/Chicago:20250921T131500
DTSTAMP:20260425T061453
CREATED:20250903T152936Z
LAST-MODIFIED:20250903T152936Z
UID:29511-1758455100-1758460500@faithcovenant.org
SUMMARY:Parents of Prodigals
DESCRIPTION:If you’re the parent of an adult child who is (at present) not walking with the Lord\, you’re not alone! Join us monthly for a time of HOPE\, support\, encouragement\, and prayer. We meet on the 3rd Sunday of each month from 11:45am-1:15pm in Room 200. Bring your own bag lunch and come prepared to receive Good News as you pray and trust God’s promises. We start Sept 21. \nQuestions? Contact Carolyn Woelfel at c749aw@gmail.com or Lesley Ernst at lesleyjernst@gmail.com.
URL:https://faithcovenant.org/event/parents-of-prodigals/
LOCATION:Faith Covenant Church\, 12921 Nicollet Ave\, Burnsville 55337\, MN
CATEGORIES:FaithConnect Events
ATTACH;FMTTYPE=image/png:https://faithcovenant.org/wp-content/uploads/2024/11/New-Interest-Group.png
END:VEVENT
BEGIN:VEVENT
DTSTART;TZID=America/Chicago:20250921T090000
DTEND;TZID=America/Chicago:20250921T100000
DTSTAMP:20260425T061453
CREATED:20250903T193328Z
LAST-MODIFIED:20250903T193328Z
UID:29535-1758445200-1758448800@faithcovenant.org
SUMMARY:Esther
DESCRIPTION:Esther is one of two books in the Bible that never explicitly mentions God\, so why is it in the Bible? We’ll dig into that question and more as we explore the story of this biblical heroine. This class will be at 9 AM on Sunday mornings this fall in the Legacy Chapel. \nQuestions? Contact Kavan Rogness at Krogness@faithcovenant.org
URL:https://faithcovenant.org/event/esther/
LOCATION:Faith Covenant Church\, 12921 Nicollet Ave\, Burnsville 55337\, MN
CATEGORIES:FaithConnect Events
ATTACH;FMTTYPE=image/jpeg:https://faithcovenant.org/wp-content/uploads/2025/09/1184-1024.jpeg
END:VEVENT
BEGIN:VEVENT
DTSTART;TZID=America/Chicago:20250906T080000
DTEND;TZID=America/Chicago:20250906T100000
DTSTAMP:20260425T061453
CREATED:20250903T181437Z
LAST-MODIFIED:20250903T183437Z
UID:29527-1757145600-1757152800@faithcovenant.org
SUMMARY:Men of Faith
DESCRIPTION:Bible study\, discipleship\, and fellowship group for all men who are seeking more even if they are not sure what more looks like. Saturdays at  8 AM: \nQuestions? Contact Butch Woelfel\,  bwoelfel66@gmail.com
URL:https://faithcovenant.org/event/men-of-faith-2/
LOCATION:Faith Covenant Church\, 12921 Nicollet Ave\, Burnsville 55337\, MN
CATEGORIES:FaithConnect Events
ATTACH;FMTTYPE=image/png:https://faithcovenant.org/wp-content/uploads/2025/09/Mens-Ministry-slide-1920-×-1080-px.png
END:VEVENT
BEGIN:VEVENT
DTSTART;TZID=America/Chicago:20250910T133000
DTEND;TZID=America/Chicago:20250910T153000
DTSTAMP:20260425T061453
CREATED:20250903T182428Z
LAST-MODIFIED:20250903T195825Z
UID:29532-1757511000-1757518200@faithcovenant.org
SUMMARY:Never Too Old To Learn
DESCRIPTION:A Bible study for senior women\, including fellowship and prayer. Rides are available. Meets weekly on Wednesdays from 1:30-3:30 PM. \nQuestions? Contact: Lu-Anne Scheerer\, lscheerer@comcast.net or 952-426-5214.
URL:https://faithcovenant.org/event/never-too-old-to-learn/
LOCATION:Faith Covenant Church\, 12921 Nicollet Ave\, Burnsville 55337\, MN
CATEGORIES:FaithConnect Events
ATTACH;FMTTYPE=image/jpeg:https://faithcovenant.org/wp-content/uploads/2025/09/26-1024.jpeg
END:VEVENT
BEGIN:VEVENT
DTSTART;TZID=America/Chicago:20251012T090000
DTEND;TZID=America/Chicago:20251012T100000
DTSTAMP:20260425T061453
CREATED:20250918T183621Z
LAST-MODIFIED:20250918T183631Z
UID:29566-1760259600-1760263200@faithcovenant.org
SUMMARY:New Member Class
DESCRIPTION:Looking to deepen your walk with Jesus? Church membership is a great way to do this! Membership at a local church is an important way to grow in relationships (with God and others)\, grace\, serving\, giving\, and leading. If you’ve been at FCC for 6+ months\, I’d love to have you join me! Sundays from 9-10 AM\, October 12\, 19\, 26\, and November 2. RSVP to Pastor Char at crotvold@faithcovenant.org (no later than Tuesday\, October 7 ). \nNew member Sunday is December 7.
URL:https://faithcovenant.org/event/new-member-class/
LOCATION:Faith Covenant Church\, 12921 Nicollet Ave\, Burnsville 55337\, MN
CATEGORIES:FaithConnect Events
ATTACH;FMTTYPE=image/png:https://faithcovenant.org/wp-content/uploads/2025/09/membership-pegs.png
END:VEVENT
BEGIN:VEVENT
DTSTART;TZID=America/Chicago:20250921T090000
DTEND;TZID=America/Chicago:20250921T100000
DTSTAMP:20260425T061453
CREATED:20250903T193328Z
LAST-MODIFIED:20250903T193328Z
UID:29535-1758445200-1758448800@faithcovenant.org
SUMMARY:Esther
DESCRIPTION:Esther is one of two books in the Bible that never explicitly mentions God\, so why is it in the Bible? We’ll dig into that question and more as we explore the story of this biblical heroine. This class will be at 9 AM on Sunday mornings this fall in the Legacy Chapel. \nQuestions? Contact Kavan Rogness at Krogness@faithcovenant.org
URL:https://faithcovenant.org/event/esther/
LOCATION:Faith Covenant Church\, 12921 Nicollet Ave\, Burnsville 55337\, MN
CATEGORIES:FaithConnect Events
ATTACH;FMTTYPE=image/jpeg:https://faithcovenant.org/wp-content/uploads/2025/09/1184-1024.jpeg
END:VEVENT
BEGIN:VEVENT
DTSTART;TZID=America/Chicago:20250906T080000
DTEND;TZID=America/Chicago:20250906T100000
DTSTAMP:20260425T061453
CREATED:20250903T181437Z
LAST-MODIFIED:20250903T183437Z
UID:29527-1757145600-1757152800@faithcovenant.org
SUMMARY:Men of Faith
DESCRIPTION:Bible study\, discipleship\, and fellowship group for all men who are seeking more even if they are not sure what more looks like. Saturdays at  8 AM: \nQuestions? Contact Butch Woelfel\,  bwoelfel66@gmail.com
URL:https://faithcovenant.org/event/men-of-faith-2/
LOCATION:Faith Covenant Church\, 12921 Nicollet Ave\, Burnsville 55337\, MN
CATEGORIES:FaithConnect Events
ATTACH;FMTTYPE=image/png:https://faithcovenant.org/wp-content/uploads/2025/09/Mens-Ministry-slide-1920-×-1080-px.png
END:VEVENT
BEGIN:VEVENT
DTSTART;TZID=America/Chicago:20250925T093000
DTEND;TZID=America/Chicago:20250925T110000
DTSTAMP:20260425T061453
CREATED:20250903T154920Z
LAST-MODIFIED:20250903T170058Z
UID:29519-1758792600-1758798000@faithcovenant.org
SUMMARY:Thurs AM Women's Book Study
DESCRIPTION:This fall\, we’re excited to journey through author Jen Wilkin’s study “Abide\,” which looks deeply at 1\, 2\, 3 John. The apostle John wrote these letters to encourage believers to hold fast to what they know and to live like they believe it. We’ll meet on Wednesdays\, 6:15-7:45pm or Thursdays\, 9:30-11am. Books are $25 but Faith is offering a 20% discount so the book with video access is $20 if you order through us. Click here to register (and purchase your book).
URL:https://faithcovenant.org/event/thurs-am-womens-book-study/
LOCATION:Faith Covenant Church\, 12921 Nicollet Ave\, Burnsville 55337\, MN
CATEGORIES:FaithConnect Events
ATTACH;FMTTYPE=image/png:https://faithcovenant.org/wp-content/uploads/2025/09/Womens-Bible-Study.png
END:VEVENT
BEGIN:VEVENT
DTSTART;TZID=America/Chicago:20250910T133000
DTEND;TZID=America/Chicago:20250910T153000
DTSTAMP:20260425T061453
CREATED:20250903T182428Z
LAST-MODIFIED:20250903T195825Z
UID:29532-1757511000-1757518200@faithcovenant.org
SUMMARY:Never Too Old To Learn
DESCRIPTION:A Bible study for senior women\, including fellowship and prayer. Rides are available. Meets weekly on Wednesdays from 1:30-3:30 PM. \nQuestions? Contact: Lu-Anne Scheerer\, lscheerer@comcast.net or 952-426-5214.
URL:https://faithcovenant.org/event/never-too-old-to-learn/
LOCATION:Faith Covenant Church\, 12921 Nicollet Ave\, Burnsville 55337\, MN
CATEGORIES:FaithConnect Events
ATTACH;FMTTYPE=image/jpeg:https://faithcovenant.org/wp-content/uploads/2025/09/26-1024.jpeg
END:VEVENT
BEGIN:VEVENT
DTSTART;TZID=America/Chicago:20250921T090000
DTEND;TZID=America/Chicago:20250921T100000
DTSTAMP:20260425T061453
CREATED:20250903T193328Z
LAST-MODIFIED:20250903T193328Z
UID:29535-1758445200-1758448800@faithcovenant.org
SUMMARY:Esther
DESCRIPTION:Esther is one of two books in the Bible that never explicitly mentions God\, so why is it in the Bible? We’ll dig into that question and more as we explore the story of this biblical heroine. This class will be at 9 AM on Sunday mornings this fall in the Legacy Chapel. \nQuestions? Contact Kavan Rogness at Krogness@faithcovenant.org
URL:https://faithcovenant.org/event/esther/
LOCATION:Faith Covenant Church\, 12921 Nicollet Ave\, Burnsville 55337\, MN
CATEGORIES:FaithConnect Events
ATTACH;FMTTYPE=image/jpeg:https://faithcovenant.org/wp-content/uploads/2025/09/1184-1024.jpeg
END:VEVENT
BEGIN:VEVENT
DTSTART;TZID=America/Chicago:20250906T080000
DTEND;TZID=America/Chicago:20250906T100000
DTSTAMP:20260425T061453
CREATED:20250903T181437Z
LAST-MODIFIED:20250903T183437Z
UID:29527-1757145600-1757152800@faithcovenant.org
SUMMARY:Men of Faith
DESCRIPTION:Bible study\, discipleship\, and fellowship group for all men who are seeking more even if they are not sure what more looks like. Saturdays at  8 AM: \nQuestions? Contact Butch Woelfel\,  bwoelfel66@gmail.com
URL:https://faithcovenant.org/event/men-of-faith-2/
LOCATION:Faith Covenant Church\, 12921 Nicollet Ave\, Burnsville 55337\, MN
CATEGORIES:FaithConnect Events
ATTACH;FMTTYPE=image/png:https://faithcovenant.org/wp-content/uploads/2025/09/Mens-Ministry-slide-1920-×-1080-px.png
END:VEVENT
BEGIN:VEVENT
DTSTART;TZID=America/Chicago:20250925T093000
DTEND;TZID=America/Chicago:20250925T110000
DTSTAMP:20260425T061453
CREATED:20250903T154920Z
LAST-MODIFIED:20250903T170058Z
UID:29519-1758792600-1758798000@faithcovenant.org
SUMMARY:Thurs AM Women's Book Study
DESCRIPTION:This fall\, we’re excited to journey through author Jen Wilkin’s study “Abide\,” which looks deeply at 1\, 2\, 3 John. The apostle John wrote these letters to encourage believers to hold fast to what they know and to live like they believe it. We’ll meet on Wednesdays\, 6:15-7:45pm or Thursdays\, 9:30-11am. Books are $25 but Faith is offering a 20% discount so the book with video access is $20 if you order through us. Click here to register (and purchase your book).
URL:https://faithcovenant.org/event/thurs-am-womens-book-study/
LOCATION:Faith Covenant Church\, 12921 Nicollet Ave\, Burnsville 55337\, MN
CATEGORIES:FaithConnect Events
ATTACH;FMTTYPE=image/png:https://faithcovenant.org/wp-content/uploads/2025/09/Womens-Bible-Study.png
END:VEVENT
BEGIN:VEVENT
DTSTART;TZID=America/Chicago:20250910T133000
DTEND;TZID=America/Chicago:20250910T153000
DTSTAMP:20260425T061453
CREATED:20250903T182428Z
LAST-MODIFIED:20250903T195825Z
UID:29532-1757511000-1757518200@faithcovenant.org
SUMMARY:Never Too Old To Learn
DESCRIPTION:A Bible study for senior women\, including fellowship and prayer. Rides are available. Meets weekly on Wednesdays from 1:30-3:30 PM. \nQuestions? Contact: Lu-Anne Scheerer\, lscheerer@comcast.net or 952-426-5214.
URL:https://faithcovenant.org/event/never-too-old-to-learn/
LOCATION:Faith Covenant Church\, 12921 Nicollet Ave\, Burnsville 55337\, MN
CATEGORIES:FaithConnect Events
ATTACH;FMTTYPE=image/jpeg:https://faithcovenant.org/wp-content/uploads/2025/09/26-1024.jpeg
END:VEVENT
BEGIN:VEVENT
DTSTART;TZID=America/Chicago:20250903T110000
DTEND;TZID=America/Chicago:20250903T130000
DTSTAMP:20260425T061453
CREATED:20250903T182231Z
LAST-MODIFIED:20250903T182241Z
UID:29529-1756897200-1756904400@faithcovenant.org
SUMMARY:Hannah Circle
DESCRIPTION:A women’s group that meets once a month to discuss a Christian book that is voted on and member led. Meets the first Wednesday of each month at 11 AM. \nQuestions? Contact Darlene Jackson\, darlenejackson48@msn.com
URL:https://faithcovenant.org/event/hannah-circle/
LOCATION:Faith Covenant Church\, 12921 Nicollet Ave\, Burnsville 55337\, MN
CATEGORIES:FaithConnect Events
ATTACH;FMTTYPE=image/jpeg:https://faithcovenant.org/wp-content/uploads/2025/09/25-1024.jpeg
END:VEVENT
BEGIN:VEVENT
DTSTART;TZID=America/Chicago:20250921T090000
DTEND;TZID=America/Chicago:20250921T100000
DTSTAMP:20260425T061453
CREATED:20250903T193328Z
LAST-MODIFIED:20250903T193328Z
UID:29535-1758445200-1758448800@faithcovenant.org
SUMMARY:Esther
DESCRIPTION:Esther is one of two books in the Bible that never explicitly mentions God\, so why is it in the Bible? We’ll dig into that question and more as we explore the story of this biblical heroine. This class will be at 9 AM on Sunday mornings this fall in the Legacy Chapel. \nQuestions? Contact Kavan Rogness at Krogness@faithcovenant.org
URL:https://faithcovenant.org/event/esther/
LOCATION:Faith Covenant Church\, 12921 Nicollet Ave\, Burnsville 55337\, MN
CATEGORIES:FaithConnect Events
ATTACH;FMTTYPE=image/jpeg:https://faithcovenant.org/wp-content/uploads/2025/09/1184-1024.jpeg
END:VEVENT
BEGIN:VEVENT
DTSTART;TZID=America/Chicago:20250906T080000
DTEND;TZID=America/Chicago:20250906T100000
DTSTAMP:20260425T061453
CREATED:20250903T181437Z
LAST-MODIFIED:20250903T183437Z
UID:29527-1757145600-1757152800@faithcovenant.org
SUMMARY:Men of Faith
DESCRIPTION:Bible study\, discipleship\, and fellowship group for all men who are seeking more even if they are not sure what more looks like. Saturdays at  8 AM: \nQuestions? Contact Butch Woelfel\,  bwoelfel66@gmail.com
URL:https://faithcovenant.org/event/men-of-faith-2/
LOCATION:Faith Covenant Church\, 12921 Nicollet Ave\, Burnsville 55337\, MN
CATEGORIES:FaithConnect Events
ATTACH;FMTTYPE=image/png:https://faithcovenant.org/wp-content/uploads/2025/09/Mens-Ministry-slide-1920-×-1080-px.png
END:VEVENT
BEGIN:VEVENT
DTSTART;TZID=America/Chicago:20250925T093000
DTEND;TZID=America/Chicago:20250925T110000
DTSTAMP:20260425T061453
CREATED:20250903T154920Z
LAST-MODIFIED:20250903T170058Z
UID:29519-1758792600-1758798000@faithcovenant.org
SUMMARY:Thurs AM Women's Book Study
DESCRIPTION:This fall\, we’re excited to journey through author Jen Wilkin’s study “Abide\,” which looks deeply at 1\, 2\, 3 John. The apostle John wrote these letters to encourage believers to hold fast to what they know and to live like they believe it. We’ll meet on Wednesdays\, 6:15-7:45pm or Thursdays\, 9:30-11am. Books are $25 but Faith is offering a 20% discount so the book with video access is $20 if you order through us. Click here to register (and purchase your book).
URL:https://faithcovenant.org/event/thurs-am-womens-book-study/
LOCATION:Faith Covenant Church\, 12921 Nicollet Ave\, Burnsville 55337\, MN
CATEGORIES:FaithConnect Events
ATTACH;FMTTYPE=image/png:https://faithcovenant.org/wp-content/uploads/2025/09/Womens-Bible-Study.png
END:VEVENT
BEGIN:VEVENT
DTSTART;TZID=America/Chicago:20250910T133000
DTEND;TZID=America/Chicago:20250910T153000
DTSTAMP:20260425T061453
CREATED:20250903T182428Z
LAST-MODIFIED:20250903T195825Z
UID:29532-1757511000-1757518200@faithcovenant.org
SUMMARY:Never Too Old To Learn
DESCRIPTION:A Bible study for senior women\, including fellowship and prayer. Rides are available. Meets weekly on Wednesdays from 1:30-3:30 PM. \nQuestions? Contact: Lu-Anne Scheerer\, lscheerer@comcast.net or 952-426-5214.
URL:https://faithcovenant.org/event/never-too-old-to-learn/
LOCATION:Faith Covenant Church\, 12921 Nicollet Ave\, Burnsville 55337\, MN
CATEGORIES:FaithConnect Events
ATTACH;FMTTYPE=image/jpeg:https://faithcovenant.org/wp-content/uploads/2025/09/26-1024.jpeg
END:VEVENT
BEGIN:VEVENT
DTSTART;TZID=America/Chicago:20250921T114500
DTEND;TZID=America/Chicago:20250921T131500
DTSTAMP:20260425T061453
CREATED:20250903T152936Z
LAST-MODIFIED:20250903T152936Z
UID:29511-1758455100-1758460500@faithcovenant.org
SUMMARY:Parents of Prodigals
DESCRIPTION:If you’re the parent of an adult child who is (at present) not walking with the Lord\, you’re not alone! Join us monthly for a time of HOPE\, support\, encouragement\, and prayer. We meet on the 3rd Sunday of each month from 11:45am-1:15pm in Room 200. Bring your own bag lunch and come prepared to receive Good News as you pray and trust God’s promises. We start Sept 21. \nQuestions? Contact Carolyn Woelfel at c749aw@gmail.com or Lesley Ernst at lesleyjernst@gmail.com.
URL:https://faithcovenant.org/event/parents-of-prodigals/
LOCATION:Faith Covenant Church\, 12921 Nicollet Ave\, Burnsville 55337\, MN
CATEGORIES:FaithConnect Events
ATTACH;FMTTYPE=image/png:https://faithcovenant.org/wp-content/uploads/2024/11/New-Interest-Group.png
END:VEVENT
BEGIN:VEVENT
DTSTART;TZID=America/Chicago:20250921T090000
DTEND;TZID=America/Chicago:20250921T100000
DTSTAMP:20260425T061453
CREATED:20250903T193328Z
LAST-MODIFIED:20250903T193328Z
UID:29535-1758445200-1758448800@faithcovenant.org
SUMMARY:Esther
DESCRIPTION:Esther is one of two books in the Bible that never explicitly mentions God\, so why is it in the Bible? We’ll dig into that question and more as we explore the story of this biblical heroine. This class will be at 9 AM on Sunday mornings this fall in the Legacy Chapel. \nQuestions? Contact Kavan Rogness at Krogness@faithcovenant.org
URL:https://faithcovenant.org/event/esther/
LOCATION:Faith Covenant Church\, 12921 Nicollet Ave\, Burnsville 55337\, MN
CATEGORIES:FaithConnect Events
ATTACH;FMTTYPE=image/jpeg:https://faithcovenant.org/wp-content/uploads/2025/09/1184-1024.jpeg
END:VEVENT
BEGIN:VEVENT
DTSTART;TZID=America/Chicago:20250906T080000
DTEND;TZID=America/Chicago:20250906T100000
DTSTAMP:20260425T061453
CREATED:20250903T181437Z
LAST-MODIFIED:20250903T183437Z
UID:29527-1757145600-1757152800@faithcovenant.org
SUMMARY:Men of Faith
DESCRIPTION:Bible study\, discipleship\, and fellowship group for all men who are seeking more even if they are not sure what more looks like. Saturdays at  8 AM: \nQuestions? Contact Butch Woelfel\,  bwoelfel66@gmail.com
URL:https://faithcovenant.org/event/men-of-faith-2/
LOCATION:Faith Covenant Church\, 12921 Nicollet Ave\, Burnsville 55337\, MN
CATEGORIES:FaithConnect Events
ATTACH;FMTTYPE=image/png:https://faithcovenant.org/wp-content/uploads/2025/09/Mens-Ministry-slide-1920-×-1080-px.png
END:VEVENT
BEGIN:VEVENT
DTSTART;TZID=America/Chicago:20250910T133000
DTEND;TZID=America/Chicago:20250910T153000
DTSTAMP:20260425T061453
CREATED:20250903T182428Z
LAST-MODIFIED:20250903T195825Z
UID:29532-1757511000-1757518200@faithcovenant.org
SUMMARY:Never Too Old To Learn
DESCRIPTION:A Bible study for senior women\, including fellowship and prayer. Rides are available. Meets weekly on Wednesdays from 1:30-3:30 PM. \nQuestions? Contact: Lu-Anne Scheerer\, lscheerer@comcast.net or 952-426-5214.
URL:https://faithcovenant.org/event/never-too-old-to-learn/
LOCATION:Faith Covenant Church\, 12921 Nicollet Ave\, Burnsville 55337\, MN
CATEGORIES:FaithConnect Events
ATTACH;FMTTYPE=image/jpeg:https://faithcovenant.org/wp-content/uploads/2025/09/26-1024.jpeg
END:VEVENT
BEGIN:VEVENT
DTSTART;TZID=America/Chicago:20250906T080000
DTEND;TZID=America/Chicago:20250906T100000
DTSTAMP:20260425T061453
CREATED:20250903T181437Z
LAST-MODIFIED:20250903T183437Z
UID:29527-1757145600-1757152800@faithcovenant.org
SUMMARY:Men of Faith
DESCRIPTION:Bible study\, discipleship\, and fellowship group for all men who are seeking more even if they are not sure what more looks like. Saturdays at  8 AM: \nQuestions? Contact Butch Woelfel\,  bwoelfel66@gmail.com
URL:https://faithcovenant.org/event/men-of-faith-2/
LOCATION:Faith Covenant Church\, 12921 Nicollet Ave\, Burnsville 55337\, MN
CATEGORIES:FaithConnect Events
ATTACH;FMTTYPE=image/png:https://faithcovenant.org/wp-content/uploads/2025/09/Mens-Ministry-slide-1920-×-1080-px.png
END:VEVENT
END:VCALENDAR